BEGIN:VCALENDAR
VERSION:2.0
PRODID:-//wp-events-plugin.com//6.4.7.1//EN
TZID:America/New_York
X-WR-TIMEZONE:America/New_York
BEGIN:VEVENT
UID:3562@carolinacanoeclub.org
DTSTART;TZID=America/New_York;VALUE=DATE:20260501
DTEND;TZID=America/New_York;VALUE=DATE:20260504
DTSTAMP:20260401T164843Z
URL:https://www.carolinacanoeclub.org/events/chatoogafest/
SUMMARY:ChattoogaFest
DESCRIPTION:Chattooga Fest is Foothills Paddling Club's largest paddling ev
 ent of the year! Every first weekend in May\, our members from South Carol
 ina\, North Carolina\, Tennessee\, and Georgia gather at the Wild and Scen
 ic Chattooga River for paddling and camaraderie. The event runs from Frida
 y evening into Sunday with activities that include social dinners\, a fun 
 raffle\, and meet-up paddling groups.\n\n\nProceeds from the event help su
 pport our club's ongoing efforts to foster community\, provide affordable 
 outdoor education\, and advocate for the conservation of our beloved water
 ways.\n\n\nPlease click the Foothills Paddling Club's event page to regist
 er.
CATEGORIES:Non-CCC Activity
END:VEVENT
BEGIN:VTIMEZONE
TZID:America/New_York
X-LIC-LOCATION:America/New_York
BEGIN:DAYLIGHT
DTSTART:20260308T030000
TZOFFSETFROM:-0500
TZOFFSETTO:-0400
TZNAME:EDT
END:DAYLIGHT
END:VTIMEZONE
END:VCALENDAR