BEGIN:VCALENDAR
VERSION:2.0
PRODID:-//wp-events-plugin.com//6.4.7.1//EN
TZID:America/New_York
X-WR-TIMEZONE:America/New_York
BEGIN:VEVENT
UID:3622@carolinacanoeclub.org
DTSTART;TZID=America/New_York:20260425T100000
DTEND;TZID=America/New_York:20260425T153000
DTSTAMP:20260421T220702Z
URL:https://www.carolinacanoeclub.org/events/ccc-ckc-uwharrie-river-trip/
SUMMARY:CCC-CKC Deep River Trip
DESCRIPTION:\n\nCCC-CKC Co-Paddle on the Uwharrie River has been changed to
  the Deep River. Sorry\, the Uwharrie\, while beautiful\, doesn't have qui
 te enough water to be a good experience.\n\nWe're changing to the Deep Riv
 er.\nCCC-CKC Deep River Trip Carbondale Road to Carbondale Access\nCoordin
 ators:   Alton Chewning 919 210-8594 Ingrid Haddon 919 270-3282\n\nMeetin
 g Time:  10am\, Saturday\, April 25\n\nLaunch location Carbonton Road (Mo
 ore 1621):  https://maps.app.goo.gl/BdmCr8dYioYJfHWm9\n\nTo reach the riv
 er\, cross Carbonton Road and proceed down a path beside the guard rail. T
 his is the upstream right side of the bridge. Near the river\, the slope i
 s fairly steep. Use a rope to lower your boat\, being careful no one is be
 low it.  Rope could also be useful in helping people carefully descend to
  the river. At least it's not muddy.\n\nTakeout location\, Carbonton Acces
 s:    https://maps.app.goo.gl/x6c5RA8GSqYtVX626\n\nThere is a small park
 ing area for several cars available at the launch location. This is a inte
 rsection of Carbonton Road (Moore 1621) and Harrington Raod.  Park on th
 e side of Harrington if necessary.  \n\nWe’ll move as many cars as poss
 ible to the Take Out location at Carbonton Access (see link.) The take-out
  has ample parking. \n\nWe run the shuttle from the Deep River Carbonton 
 Road access (see launch location below)  at 10am (please have your boat d
 own to the water at 10am. \n\nThis section of the Deep\, at this level\, 
 has only small riffles\, possible a Class I rapid or two. Most people will
  be using plastic whitewater boats.  Other durable boats could work but t
 here will be some rock scraping involved in a few places.\n\n 	Please  br
 ing a rope to lower your boat at the launch. \n 	Bring a helmet if you ha
 ve one.  Sun hat if not. \n 	Everyone must wear PFD’s.\n 	Bring water 
 (80+ degrees)\, sun protection and a snack. \n\nThis is a trip open to fi
 ve paddlers from each club.\n\nTrip length is 6.5 miles.\n\n&nbsp\;\n\n&nb
 sp\;
CATEGORIES:Trip
END:VEVENT
BEGIN:VTIMEZONE
TZID:America/New_York
X-LIC-LOCATION:America/New_York
BEGIN:DAYLIGHT
DTSTART:20260308T030000
TZOFFSETFROM:-0500
TZOFFSETTO:-0400
TZNAME:EDT
END:DAYLIGHT
END:VTIMEZONE
END:VCALENDAR