BEGIN:VCALENDAR
VERSION:2.0
PRODID:-//wp-events-plugin.com//6.4.7.1//EN
TZID:America/New_York
X-WR-TIMEZONE:America/New_York
BEGIN:VEVENT
UID:2664@carolinacanoeclub.org
DTSTART;TZID=America/New_York;VALUE=DATE:20221231
DTEND;TZID=America/New_York;VALUE=DATE:20230101
DTSTAMP:20221228T170623Z
URL:https://www.carolinacanoeclub.org/events/canoe-kayak-south-carolina-bo
 ok-sales/
SUMMARY:Canoe Kayak South Carolina Book Sales
DESCRIPTION:This is a system to reserve one of the “Canoe Kayak South Car
 olina” guidebooks written by one of our very own\, Paul Ferguson. If you
  would like to reserve a book then click to register and pay your $10 and 
 we will reserve one of the books for you.\n\nWe will be announcing differe
 nt dates and locations such as roll practice at Jordan Lake\, during WOR\,
  and our December Meeting/Christmas party when we will have the books avai
 lable to pickup or to purchase if you have not reserved one and we have an
 y left.\n\nPlease let me know if you have any questions.
CATEGORIES:CCC Activity
END:VEVENT
BEGIN:VTIMEZONE
TZID:America/New_York
X-LIC-LOCATION:America/New_York
BEGIN:STANDARD
DTSTART:20221106T010000
TZOFFSETFROM:-0400
TZOFFSETTO:-0500
TZNAME:EST
END:STANDARD
END:VTIMEZONE
END:VCALENDAR