BEGIN:VCALENDAR
VERSION:2.0
PRODID:-//wp-events-plugin.com//6.4.7.1//EN
TZID:America/New_York
X-WR-TIMEZONE:America/New_York
BEGIN:VEVENT
UID:3319@carolinacanoeclub.org
DTSTART;TZID=America/New_York:20250621T090000
DTEND;TZID=America/New_York:20250622T170000
DTSTAMP:20250408T033119Z
URL:https://www.carolinacanoeclub.org/events/beginner-kayak-clinic-triangl
 e-raleigh-area/
SUMMARY:Beginner Kayak Clinic – Triangle (Raleigh) Area
DESCRIPTION:Beginner Kayak Clinic – Triangle (Raleigh) Area\nDate/Time: J
 une 21-22 2025\nSkill Level: Beginner\nLimited Contact: paul.scrutton@gmai
 l.com\n\n(if page says "Bookings closed" please login first to the website
  to enroll)\n\nBeginner Whitewater Kayak Clinic\n\nEvent Date: 06/21/2025 
 – 06/22/2025\n\nRegistration Fee: $110\, includes ACA Event Insurance fe
 e.\n\nLocation: Triangle (Raleigh)\, NC area. Most likely venues – Jorda
 n Lake and Haw River\n\nBeginner clinics are targeted at those who have li
 ttle or no experience paddling whitewater or are starting over again with 
 a new type of craft (i.e. switching from kayaking to canoeing). Beginner c
 linics cover the very basics of kayaking. The first day is generally spent
  covering equipment\, outfitting\, safety precautions\, and river features
  on dry land\, and then spending time on a lake with the instructor introd
 ucing the proper stroke techniques on flat/non-moving water. This venue al
 lows the student to concentrate on the strokes and not the water. The seco
 nd day of the beginner clinic is held on a class I-II white water river\, 
 to ease the students into moving white water and emphasis is placed on tec
 hnique and becoming comfortable on the river in one’s boat. The typical 
 beginner clinic student has no experience or is not yet comfortable on riv
 ers like the Lower Green\, Upper or Middle Haw\, or Tuck Gorge.\n\nFor oth
 er clinic descriptions – https://www.carolinacanoeclub.org/content/paddl
 ing-clinics/\n\nMembership in CCC is required. This clinic is for persons 
 over 18 years of age\, or over 15 years with a parent attending the clinic
  (Above 13 years may also be considered on a case-by-case basis). CCC is a
  Paddle America Club insured by the ACA (American Canoe Association). Regi
 stration is non-refundable.\n\nRequirements:\n\nWhitewater boat and gear (
 minimum boat\, paddle\, pfd\, skirt\, and helmet)\nCompletion of ACA &amp\
 ; CCC waivers (follow-up by Educ. Chair after initial registration)\nCompl
 etion of questionnaire (follow-up by Educ. Chair after initial registratio
 n)\nInstructors: Wayne Jones\, Paul Scrutton. William Holman will be Quali
 fied Assistant on Sunday. Class size up to 10 with an ACA certified instru
 ctor and Qualified Assistant. Minimum registration is 3 students for the c
 lass to take place.\n\nContact education.chair@carolinacanoeclub.org for q
 uestions and advice.\n\nAfter starting the registration process\, please c
 omplete it by going to Checkout for payment.\n\nRegistration for this clas
 s closes on 19th June\, 2025\n\nThis is an ACA Sanctioned Event.\n\n
CATEGORIES:Clinic
END:VEVENT
BEGIN:VTIMEZONE
TZID:America/New_York
X-LIC-LOCATION:America/New_York
BEGIN:DAYLIGHT
DTSTART:20250309T030000
TZOFFSETFROM:-0500
TZOFFSETTO:-0400
TZNAME:EDT
END:DAYLIGHT
END:VTIMEZONE
END:VCALENDAR