BEGIN:VCALENDAR
VERSION:2.0
PRODID:-//wp-events-plugin.com//6.4.7.1//EN
TZID:America/New_York
X-WR-TIMEZONE:America/New_York
BEGIN:VEVENT
UID:2644@carolinacanoeclub.org
DTSTART;TZID=America/New_York:20220514T000000
DTEND;TZID=America/New_York:20220515T000000
DTSTAMP:20220508T120950Z
URL:https://www.carolinacanoeclub.org/events/beginner-kayak-clinic-bryson-
 city-area/
SUMMARY:Beginner Kayak Clinic - Bryson City Area
DESCRIPTION:Beginner Whitewater Kayak Clinic\n\nEvent Date: 05/14/2022 - 0
 5/15/2022\n\nRegistration Fee: $90.00\n\nACA Event-Only Insurance Fee: $10
 .00 (or provide ACA Member Number)\n\nLocation: Bryson City\, NC area.  M
 ost likely venues - Fontana Lake and Tuckaseegee River\n\nBeginner clinics
  are targeted at those who have little or no experience paddling whitewat
 er or are starting over again with a new type of craft (i.e. switching fro
 m kayaking to canoeing).  Beginner clinics cover the very basics of kayak
 ing.  The first day is generally spent covering equipment\, outfitting\, 
 safety precautions\, and river features on dry land\, and then spending ti
 me on a lake with the instructor introducing the proper stroke techniques 
 on flat/non-moving water.  This venue allows the student to concentrate o
 n the strokes and not the water. The second day of the beginner clinic is 
 held on a class I-II white water river\, to ease the students into moving 
 white water and emphasis is placed on technique and becoming comfortable o
 n the river in one’s boat.  The typical beginner clinic student has no 
 experience or is not yet comfortable on rivers like the Lower Green\, Uppe
 r or Middle Haw\, or Tuck Gorge.\n\nFor other clinic descriptions - https:
 //www.carolinacanoeclub.org/content/paddling-clinics/\n\nMembership in CCC
  is required.   This clinic is for persons over 18 years of age\, or ove
 r 15 years with a parent attending the clinic (Above 13 years may also be 
 considered on a case-by-case basis).  CCC is a Paddle America Club insure
 d by the ACA (American Canoe Association).\n\nRequirements:\n\n 	Whitewate
 r boat and gear (minimum boat\, paddle\, pfd\, skirt\, and helmet)\n 	Prov
 ide ACA member number or purchase an event-only membership. https://www.am
 ericancanoe.org/store/viewproduct.aspx?id=708423\n 	Completion of ACA &amp
 \; CCC waivers (follow-up by Educ. Chair after initial registration)\n 	Co
 mpletion of questionnaire (follow-up by Educ. Chair after initial registra
 tion)\n\nInstructors: To Be Determined\, Class size up to 10 with an ACA c
 ertified instructor and Qualified Assistant.  Minimum registration is 3 s
 tudents for the class to take place.\n\nContact education.chair@carolinaca
 noeclub.org for questions and advice.\n\nAfter starting the registration p
 rocess\, please complete it by going to Checkout for payment.
CATEGORIES:Clinic
END:VEVENT
BEGIN:VTIMEZONE
TZID:America/New_York
X-LIC-LOCATION:America/New_York
BEGIN:DAYLIGHT
DTSTART:20220313T030000
TZOFFSETFROM:-0500
TZOFFSETTO:-0400
TZNAME:EDT
END:DAYLIGHT
END:VTIMEZONE
END:VCALENDAR