BEGIN:VCALENDAR
VERSION:2.0
PRODID:-//wp-events-plugin.com//6.4.7.1//EN
TZID:America/New_York
X-WR-TIMEZONE:America/New_York
BEGIN:VEVENT
UID:3055@carolinacanoeclub.org
DTSTART;TZID=America/New_York;VALUE=DATE:20240511
DTEND;TZID=America/New_York;VALUE=DATE:20240513
DTSTAMP:20240423T151530Z
URL:https://www.carolinacanoeclub.org/events/beginner-kayak-clinic-bryson-
 city-area-3/
SUMMARY:Beginner Kayak Clinic – Bryson City Area
DESCRIPTION:(if page says "Bookings closed" please login first to the websi
 te to enroll)\n\nBeginner Whitewater Kayak Clinic\n\nEvent Date: 05/11/202
 4 – 05/12/2024\n\nRegistration Fee: $110\, includes ACA Event Insurance 
 fee.\n\nLocation: Bryson City\, NC area. Most likely venues – Fontana La
 ke and Tuckaseegee River\n\nBeginner clinics are targeted at those who hav
 e little or no experience paddling whitewater or are starting over again w
 ith a new type of craft (i.e. switching from kayaking to canoeing). Beginn
 er clinics cover the very basics of kayaking. The first day is generally s
 pent covering equipment\, outfitting\, safety precautions\, and river feat
 ures on dry land\, and then spending time on a lake with the instructor in
 troducing the proper stroke techniques on flat/non-moving water. This venu
 e allows the student to concentrate on the strokes and not the water. The 
 second day of the beginner clinic is held on a class I-II white water rive
 r\, to ease the students into moving white water and emphasis is placed on
  technique and becoming comfortable on the river in one’s boat. The typi
 cal beginner clinic student has no experience or is not yet comfortable on
  rivers like the Lower Green\, Upper or Middle Haw\, or Tuck Gorge.\n\nFor
  other clinic descriptions – https://www.carolinacanoeclub.org/content/p
 addling-clinics/\n\nMembership in CCC is required. This clinic is for pers
 ons over 18 years of age\, or over 15 years with a parent attending the cl
 inic (Above 13 years may also be considered on a case-by-case basis). CCC 
 is a Paddle America Club insured by the ACA (American Canoe Association). 
 Registration is non-refundable.\n\nRequirements:\n\nWhitewater boat and ge
 ar (minimum boat\, paddle\, pfd\, skirt\, and helmet)\nCompletion of ACA &
 amp\; CCC waivers (follow-up by Educ. Chair after initial registration)\nC
 ompletion of questionnaire (follow-up by Educ. Chair after initial registr
 ation)\nInstructors: To Be Determined\, Class size up to 10 with an ACA ce
 rtified instructor and Qualified Assistant. Minimum registration is 3 stud
 ents for the class to take place.\n\nContact education.chair@carolinacanoe
 club.org for questions and advice.\n\nAfter starting the registration proc
 ess\, please complete it by going to Checkout for payment.\n\nRegistration
  for this class closes on 7th May\, 2024\n\nThis is an ACA Sanctioned Even
 t.\n\n
CATEGORIES:Clinic
END:VEVENT
BEGIN:VTIMEZONE
TZID:America/New_York
X-LIC-LOCATION:America/New_York
BEGIN:DAYLIGHT
DTSTART:20240310T030000
TZOFFSETFROM:-0500
TZOFFSETTO:-0400
TZNAME:EDT
END:DAYLIGHT
END:VTIMEZONE
END:VCALENDAR