BEGIN:VCALENDAR
VERSION:2.0
PRODID:-//wp-events-plugin.com//6.4.7.1//EN
TZID:America/New_York
X-WR-TIMEZONE:America/New_York
BEGIN:VEVENT
UID:2881@carolinacanoeclub.org
DTSTART;TZID=America/New_York:20230524T173000
DTEND;TZID=America/New_York:20230524T193000
DTSTAMP:20230523T002936Z
URL:https://www.carolinacanoeclub.org/events/bandages-brews-wilderness-fir
 st-aid-clinic/
SUMMARY:Bandages &amp\; Brews Wilderness First Aid Clinic
DESCRIPTION:Join the Carolina Canoe Club at the Fiddlin’ Fish Brewing Com
 pany in Winston Salem for the annual Bandages &amp\; Brews Wilderness Firs
 t Aid Clinic this Wednesday\, May 24th 5:30 to 7:30 pm!\n\n&nbsp\;\n\nWe w
 ill have a table set up at this event. Come check out all the vendors and 
 get some of your questions answered by medical professionals and people in
  the recreational community who have your safety in mind. Please pre-regis
 ter as food is being provided.  This is a free community event.\n\n&nbsp\
 ;\n\nhttps://fiddlinfish.com/\n\n&nbsp\;\n\n&nbsp\;\nBandages &amp\; Brews
  - Wilderness First Aid Clinic\nWednesday May 24th\nHeading into the great
  outdoors this summer? Be ready for what Mother Nature can throw at you wi
 th a quick\, fun\, hands-on approach to Wilderness First Aid!\n\nOn Wednes
 day\, May 24\, the annual Bandages and Brews: Stayin’ Alive in the Outdo
 ors event will be held at Fiddlin’ Fish Brewing Company\, 772 Trade St. 
 NW\, Winston-Salem from 5:30 to 7:30 p.m. This is a FREE community event!\
 n\nYou will receive practical advice from medical professionals on buildin
 g a first aid kit\, and will learn about lightning and drowning\, how to t
 reat sprains\, strains\, fractures and burns as well as ways to stop sever
 e bleeding. You’ll learn the skills you need to be prepared for safe and
  responsible outdoor recreation!\n\nComplimentary dinner will be sponsored
  by Three Rivers Land Trust. Admission is FREE\, but advanced registration
  is required.\n\nSign up today: https://www.eventbrite.com/e/bandages-bre
 ws-stayin-alive-in-the-outdoors-tickets-634119968897\n05:30 PM - 07:30 PM\
 n&nbsp\;
CATEGORIES:Non-CCC Activity
END:VEVENT
BEGIN:VTIMEZONE
TZID:America/New_York
X-LIC-LOCATION:America/New_York
BEGIN:DAYLIGHT
DTSTART:20230312T030000
TZOFFSETFROM:-0500
TZOFFSETTO:-0400
TZNAME:EDT
END:DAYLIGHT
END:VTIMEZONE
END:VCALENDAR