BEGIN:VCALENDAR
VERSION:2.0
PRODID:-//wp-events-plugin.com//6.4.7.1//EN
TZID:America/New_York
X-WR-TIMEZONE:America/New_York
BEGIN:VEVENT
UID:507@carolinacanoeclub.org
DTSTART;TZID=America/New_York:20180703T160000
DTEND;TZID=America/New_York:20180703T160000
DTSTAMP:20200821T015200Z
URL:https://www.carolinacanoeclub.org/events/bad-idea-theater-iii/
SUMMARY:Bad Idea Theater III
DESCRIPTION:It began with some inflatable alligators and a dream.  And now
 \, it has taken on a life of its own.  The craziest of CCC'ers will gathe
 r on July 3 to float over Nantahala falls in all manner of inflatable pool
  toys (and perhaps\, inflatable pools themselves).  Come out and watch th
 e fun\, take some photos\, or help set safety with a throw rope.\nBut defi
 nitely DO NOT under any circumstances climb aboard inflatable pool toys an
 d float over Nantahala Falls. Don't do it.  It's a terrible idea.\n\;)\n
CATEGORIES:CCC Activity
END:VEVENT
BEGIN:VTIMEZONE
TZID:America/New_York
X-LIC-LOCATION:America/New_York
BEGIN:DAYLIGHT
DTSTART:20180311T030000
TZOFFSETFROM:-0500
TZOFFSETTO:-0400
TZNAME:EDT
END:DAYLIGHT
END:VTIMEZONE
END:VCALENDAR