BEGIN:VCALENDAR
VERSION:2.0
PRODID:-//wp-events-plugin.com//6.4.7.1//EN
TZID:America/New_York
X-WR-TIMEZONE:America/New_York
BEGIN:VEVENT
UID:489@carolinacanoeclub.org
DTSTART;TZID=America/New_York:20190701T083000
DTEND;TZID=America/New_York:20190701T120000
DTSTAMP:20200925T123038Z
URL:https://www.carolinacanoeclub.org/events/annual-week-rivers-cleanup-tu
 ck-fontana-lake/
SUMMARY:2019 Annual Week of Rivers Cleanup the Tuck at Fontana Lake
DESCRIPTION:The club's annual Tuckaseegee Cleanup is scheduled for Monday\,
  July 1\, from 8 a.m to noon on Fontana Lake just outside of Bryson City.\
 nLast year\, Carolina Canoe Club members picked up 150 bags of trash into 
 addition to tires and other debris. Can we collect more trash this year?\n
 Bring your boat\, paddling gear\, snacks and water.  The club\, Swain Cle
 an and other local sponsors will provide bags\, gloves\, trash grabbers an
 d more water. Roger Clapp with Watershed Association of the Tuckasegee Riv
 er is bringing a raft.\nWe'll bypass the morning meeting: Pack up Sunday n
 ight and be ready to go first thing Monday. It gets hot on the lake so we'
 re trying to get you on the water early and avoid the afternoon sun.\nPrin
 t out a map and directions at this URL: https://tinyurl.com/tuckclean\nOr
  plug these coordinates into your GPS device: 35.42844\, -83.48532\nHere a
 re the directions from Smoky Mountain Meadows:\n* Leave campground\; cross
  US 74 and turn right on US 19 at Exxon station.* Turn left at Walgreens i
 n Bryson City\; cross bridge* Turn left at Yellow Rose Real Estate onto Br
 yson Walk (1321)* Follow road along Tuckasegee. Stay left where roads bran
 ch right.\nQuestions? Call me at 919-812-8528 or email me at rjbrueckner@
 gmail.com\nBob Brueckner\nCCC Conservation Chair
CATEGORIES:CCC Activity
END:VEVENT
BEGIN:VTIMEZONE
TZID:America/New_York
X-LIC-LOCATION:America/New_York
BEGIN:DAYLIGHT
DTSTART:20190310T030000
TZOFFSETFROM:-0500
TZOFFSETTO:-0400
TZNAME:EDT
END:DAYLIGHT
END:VTIMEZONE
END:VCALENDAR