BEGIN:VCALENDAR
VERSION:2.0
PRODID:-//wp-events-plugin.com//6.4.7.1//EN
TZID:America/New_York
X-WR-TIMEZONE:America/New_York
BEGIN:VEVENT
UID:3277@carolinacanoeclub.org
DTSTART;TZID=America/New_York:20250427T100000
DTEND;TZID=America/New_York:20250427T160000
DTSTAMP:20250211T181212Z
URL:https://www.carolinacanoeclub.org/events/annual-triangle-novice-trip-2
 /
SUMMARY:Annual Triangle Novice Trip
DESCRIPTION:My annual whitewater novice trip. Usually the water tables are 
 still holding mid April/early May\, yet the weather has warmed enough for 
 the unexpected swim. As water levels can be a bit quirky\, this trip will 
 be on one of the Triangle whitewater rivers that has acceptable water at t
 he time (likely the Fear\, Eno\, or Haw). More specific information/update
 s to be provided to those attending a few days before. A great opportunity
  to get out on one of the local Triangle rivers!\n\nThis trip should be su
 itable for paddlers at any level. This trip is not suitable for recreation
 al kayaks\, although sit-on-tops work. Standard safety gear required (floa
 t bags\, helmet\, personal flotation device).\n\nIf you have any questions
  please let me know. Contact me via email (ccctrip2024@corwyn.net) with qu
 estions.\n\nWith the abundance of rain\, all sorts of things could be diff
 erent!
CATEGORIES:Trip
END:VEVENT
BEGIN:VTIMEZONE
TZID:America/New_York
X-LIC-LOCATION:America/New_York
BEGIN:DAYLIGHT
DTSTART:20250309T030000
TZOFFSETFROM:-0500
TZOFFSETTO:-0400
TZNAME:EDT
END:DAYLIGHT
END:VTIMEZONE
END:VCALENDAR