BEGIN:VCALENDAR
VERSION:2.0
PRODID:-//wp-events-plugin.com//6.4.7.1//EN
TZID:America/New_York
X-WR-TIMEZONE:America/New_York
BEGIN:VEVENT
UID:2627@carolinacanoeclub.org
DTSTART;TZID=America/New_York;VALUE=DATE:20220731
DTEND;TZID=America/New_York;VALUE=DATE:20220801
DTSTAMP:20220213T131309Z
URL:https://www.carolinacanoeclub.org/events/aca-l3-river-safety-rescue-3-
 part-series-day-3/
SUMMARY:ACA L3 River Safety &amp\; Rescue 3 Part Series – Day 3
DESCRIPTION:ACA L3 River Safety &amp\; Rescue 3 Part Series - Day 3\n\nThis
  is Day 3 of a 3 day series spread out over 3 months. (Day 1 and 2 were in
  May and June)\n\nDay 3 will cover Ropes and Rope Work along with Craft Pi
 ns.  This will be a portion of the ACA L3 RSR curriculum but focused on o
 nly ropes and craft pins.  This is to allow the instructor to focus exten
 sively on only a portion of the curriculum giving the students plenty of t
 ime on the basic skills taught in a full ACA L3 RSR.  This course is inte
 nded for those who have never taken an L3 River Safety and Rescue course o
 r those who would like to work on specific skills.  There are no requirem
 ents to attend Day 1 or 2 prior to attending this course.  This is the fi
 nal day in a 3 part series.\n\nLocation:  TBD (somewhere near the Triad a
 rea)\n\nLead Instructor:  Chris Brewer\n\nSlots:  6 (more could become a
 vailable as we get closer to date)\n\nCost: $15  (Registration will open 
 30 days from the start of the course)\n\nMore information will updated her
 e in the future.\n\nDay 1: WAS: May 22nd\, On water safety and rescue\n\nD
 ay 2:  WAS: June 12th\, Boat based safety and rescue\n\nIf you have any q
 uestions please let me know\n\nWilliam Holman\n\nSafety Chair
CATEGORIES:Clinic
END:VEVENT
BEGIN:VTIMEZONE
TZID:America/New_York
X-LIC-LOCATION:America/New_York
BEGIN:DAYLIGHT
DTSTART:20220313T030000
TZOFFSETFROM:-0500
TZOFFSETTO:-0400
TZNAME:EDT
END:DAYLIGHT
END:VTIMEZONE
END:VCALENDAR