BEGIN:VCALENDAR
VERSION:2.0
PRODID:-//wp-events-plugin.com//6.4.7.1//EN
TZID:America/New_York
X-WR-TIMEZONE:America/New_York
BEGIN:VEVENT
UID:2625@carolinacanoeclub.org
DTSTART;TZID=America/New_York;VALUE=DATE:20220522
DTEND;TZID=America/New_York;VALUE=DATE:20220523
DTSTAMP:20220519T183806Z
URL:https://www.carolinacanoeclub.org/events/aca-l3-river-safety-rescue-3-
 part-series-day-1/
SUMMARY:ACA L3 River Safety &amp\; Rescue 3 Part Series - Day 1
DESCRIPTION:ACA L3 River Safety &amp\; Rescue 3 Part Series - Day 1\nThis i
 s Day 1 of a 3 day series spread out over 3 months.\n\nDay 1 will cover on
  water based safety and rescue to include wading and swimming.  This will
  be a portion of the ACA L3 RSR curriculum but focused on only the on wate
 r safety and rescue portion.  This is to allow the instructor to focus ex
 tensively on only a portion of the curriculum giving the students plenty o
 f time on the basic skills taught in a full ACA L3 RSR.  This course is i
 ntended for those who have never taken an L3 River Safety and Rescue cours
 e or those who would like to work on specific skills.  There are no requi
 rements to attend all or a specific one to attend the other.  The Day 2 a
 nd Day 3 dates and brief will be listed at the bottom.\n\nLocation:  Mayo
  River\n\nLead Instructor:  Chris Brewer\n\nSlots:  6 (more could become
  available as we get closer to date)\n\nCost: $15  (Registration will ope
 n 30 days from the start of the course)\n\nMore information will be provid
 ed upon registraion.\n\nDay 2:  June 12th\, Boat based rescues-  Learnin
 g the fundamentals of boat based safety and rescue\n\nDay 3:  July 31st\,
  Ropes and Craft Pins-  Learning all about ropes and craft pins\n\nIf you
  have any questions please let me know\n\nWilliam Holman\n\nSafety Chair\n
 \n&nbsp\;\n\n&nbsp\;
CATEGORIES:Clinic
END:VEVENT
BEGIN:VTIMEZONE
TZID:America/New_York
X-LIC-LOCATION:America/New_York
BEGIN:DAYLIGHT
DTSTART:20220313T030000
TZOFFSETFROM:-0500
TZOFFSETTO:-0400
TZNAME:EDT
END:DAYLIGHT
END:VTIMEZONE
END:VCALENDAR