BEGIN:VCALENDAR
VERSION:2.0
PRODID:-//wp-events-plugin.com//6.4.7.1//EN
TZID:America/New_York
X-WR-TIMEZONE:America/New_York
BEGIN:VEVENT
UID:78@carolinacanoeclub.org
DTSTART;TZID=America/New_York;VALUE=DATE:20180923
DTEND;TZID=America/New_York;VALUE=DATE:20181001
DTSTAMP:20201104T010837Z
URL:https://www.carolinacanoeclub.org/events/2018-ocoee-drawdown/
SUMMARY:2018 Ocoee Drawdown
DESCRIPTION:The last year of Ocoee Drawdown (really\, no foolin'\, it went 
 away with the new release schedule). Ocoee Drawdown is a wonderful time. T
 he leaves are usually starting to change. The weather is starting to cool.
  The Ocoee is much quieter on the weekends\, and completely deserted durin
 g the week. A great chance to learn the river\, or try new lines.\n\nSince
  1976\, the Ocoee has welcomed many to miles of challenging and exciting C
 lass III/III+ rapids on one of the country's premier rivers. The Middle Oc
 oee River is a 5-mile stretch of whitewater that takes you through rapids 
 such as Grumpy’s\, Broken Nose\, Diamond Splitter\, and Table Saw.\n\nI'
 ll be camping at Thunder Rock Campground. First-timers with appropriate ex
 perience welcome. A great chance to get together with friends new and old.
  If you have any questions\, feel free to email me at ocoee@corwyn.net. Le
 t me know if you're coming\, and I'll see you there!\nUpdates:\na) It look
 s like Drawdown has been added back to the overall release schedule! Woot!
 \nb) I have reserved the Group Camping site at Thunder Rock\, so everyone 
 has a place to stay!\nc) FB Event: https://www.facebook.com/events/248920
 652342837/
CATEGORIES:Trip
END:VEVENT
BEGIN:VTIMEZONE
TZID:America/New_York
X-LIC-LOCATION:America/New_York
BEGIN:DAYLIGHT
DTSTART:20180311T030000
TZOFFSETFROM:-0500
TZOFFSETTO:-0400
TZNAME:EDT
END:DAYLIGHT
END:VTIMEZONE
END:VCALENDAR