BEGIN:VCALENDAR
VERSION:2.0
PRODID:-//wp-events-plugin.com//6.4.7.1//EN
TZID:America/New_York
X-WR-TIMEZONE:America/New_York
BEGIN:VEVENT
UID:2638@carolinacanoeclub.org
DTSTART;TZID=America/New_York;VALUE=DATE:20220319
DTEND;TZID=America/New_York;VALUE=DATE:20220320
DTSTAMP:20220308T213217Z
URL:https://www.carolinacanoeclub.org/events/1sr-aid-cpr-certification/
SUMMARY:1st Aid/CPR certification
DESCRIPTION:1st Aid/CPR certification class.\n\nCost: $43.00 (paid to Sean 
 on day of class to cover fees and expendables)\n\nLocation: Garner (exact 
 address will be emailed to participants)\n\nSlots: 12 (reserve slots by em
 ail)\n\nTaught by our club member Sean Loftis\n\nIf any questions let me k
 now.\n\nWilliam Holman\n\nSafety.chair@carolinacanoeclub.org\n\n&nbsp\;
CATEGORIES:Trip
END:VEVENT
BEGIN:VTIMEZONE
TZID:America/New_York
X-LIC-LOCATION:America/New_York
BEGIN:DAYLIGHT
DTSTART:20220313T030000
TZOFFSETFROM:-0500
TZOFFSETTO:-0400
TZNAME:EDT
END:DAYLIGHT
END:VTIMEZONE
END:VCALENDAR